BEGIN:VCALENDAR

VERSION:2.0

PRODID:-//hacksw/handcal//NONSGML v1.0//EN

BEGIN:VEVENT

UID:ec4f780e084be125482286d9dbb62983

DTSTAMP:20260420T045925Z

DTSTART:20260420T163000

DTEND:20260420T165000

SUMMARY:R4235301 - C5402/16-18 Constitution Road, MEADOWBANK NSW 2114

LOCATION:C5402/16-18 Constitution Road, MEADOWBANK NSW 2114

END:VEVENT

END:VCALENDAR